BEGIN:VCALENDAR
VERSION:2.0
PRODID:-//TYPO3/NONSGML Calendarize//EN
BEGIN:VEVENT
UID:calendarize-repair-und-kreativcafe-20260429
CONTACT:JUP
DTSTAMP:20250626T125301Z
DTSTART:20260429T160000Z
DTEND:20260429T190000Z
SUMMARY:Upcycling-Workshop
DESCRIPTION:Bei unseren Upcycling-Workshop dreht sich alles darum\, alte M
 aterialien wiederzuverwenden oder zu etwas ganz Neuem zu verarbeiten! In u
 nserem neuen Workshop stellen wir gemeinsam Bienenwachstücher her\, damit
  ihr für das nächste Picknick ausgerüstet seid. Bringt gerne schöne Ba
 umwollstoffe mit\, alles andere bekommt ihr von uns.\n\nMittwochs gibt's d
 ie Workshops auf Deutsch\, donnerstags auf Englisch – you choose! Kosten
 los und ohne Anmeldung.
X-ALT-DESC;FMTTYPE=text/html:
LOCATION:Schiller-Bibliothek, Müllerstr. 149 , 13353 Berlin, Tel: 0309018
 45635
END:VEVENT
END:VCALENDAR
