BEGIN:VCALENDAR
VERSION:2.0
PRODID:-//TYPO3/NONSGML Calendarize//EN
BEGIN:VEVENT
UID:calendarize-repair-und-kreativcafe-workshop-in-english-20260430
CONTACT:JUP
DTSTAMP:20250626T125301Z
DTSTART:20260430T160000Z
DTEND:20260430T190000Z
SUMMARY:Upcycling workshop **in english**
DESCRIPTION:Our upcycling workshops are all about reusing old materials or
  turning them into something completely new! In our new workshop you'll le
 arn how to make your own beewax cloth. Please bring your own cotton fabric
 \, we will provide you with everything else.\n\nThe workshops will be held
  in German on Wednesdays and in English on Thursdays - you choose!\n\nFree
  and without registration\n\n 
X-ALT-DESC;FMTTYPE=text/html:
LOCATION:Schiller-Bibliothek, Müllerstr. 149 , 13353 Berlin, Tel: 0309018
 45635
END:VEVENT
END:VCALENDAR
