BEGIN:VCALENDAR
VERSION:2.0
PRODID:-//TYPO3/NONSGML Calendarize//EN
BEGIN:VEVENT
UID:calendarize-retrogaming-mit-dem-computerspielemuseum-1-20260508
CONTACT:Veranstaltungskalender für Familien in Berlin
DTSTAMP:20250626T132705Z
DTSTART:20260508T143000Z
SUMMARY:RetroGaming mit dem Computerspielemuseum
DESCRIPTION:Nostalgisches Zocken auf alten Konsolen:\nGemeinsam mit dem Co
 mputerspielemusem könnt ihr bei uns auf alten Spielekonsolen zocken\, was
  das Zeug hält. Junge Menschen entdecken wie und vor allem\, was man frü
 her so gespielt hat und den älteren wird ihr nostalgisches Herz höher sc
 hlagen. Damit ist garantiert für jeden etwas dabei. Kommt vorbei und scha
 ut mal rein!\n\nWerkRaum der Bezirkszentralbibliothek\n- jeden 2. Freitag 
 des Monats\n- 14:30 bis 16:30 Uhr\n- Eintritt frei\n- ohne Voranmeldung
X-ALT-DESC;FMTTYPE=text/html:
LOCATION:Pablo-Neruda-Bibliothek, Frankfurter Allee 14 A , 10247 Berlin, T
 el: 
END:VEVENT
END:VCALENDAR
