BEGIN:VCALENDAR
VERSION:2.0
PRODID:-//TYPO3/NONSGML Calendarize//EN
BEGIN:VEVENT
UID:calendarize-siebdruck-20260429
CONTACT:JUP
DTSTAMP:20250626T125301Z
DTSTART:20260429T170000Z
DTEND:20260429T190000Z
SUMMARY:(Sieb-)Drucklabor
DESCRIPTION:Mit verschiedenen Druckverfahren wie Siebdruck\, Linoldruck\, 
 Monotypie\, Gelliplatte und experimentellen Techniken kannst du anspruchsv
 olle Bilder auf unterschiedliche Oberflächen bringen. Bitte bringe deine 
 eigenen Beutel\, T-Shirts oder Hoodies mit\, die du gestalten möchtest. W
 ir unterstützen dich mit unserem Wissen\, damit deine individuellen Kreat
 ionen Wirklichkeit werden!Do 15:30 – 17:00 Uhr | 8 – 13 Jahre altMo & 
 Mi 17:00 – 19:00 Uhr | 14 – 27 Jahre alt1 € Materialspende pro Termi
 n
X-ALT-DESC;FMTTYPE=text/html:
LOCATION:Weinmeisterhaus - Jugendkulturzentrum Mitte, Weinmeisterstr. 15 ,
  10178 Berlin, Tel: 030 270044 971
END:VEVENT
END:VCALENDAR
