BEGIN:VCALENDAR
VERSION:2.0
PRODID:-//TYPO3/NONSGML Calendarize//EN
BEGIN:VEVENT
UID:calendarize-skulptur-20260601
CONTACT:JUP
DTSTAMP:20250626T125301Z
DTSTART:20260601T153000Z
DTEND:20260601T190000Z
SUMMARY:Skulptur mit Ton
DESCRIPTION:Dieser Workshop konzentriert sich auf figurative und konzeptio
 nelle Ansätze. Der Fokus liegt auf der realistischen Darstellung\, auf de
 r Form\, dem Volumen und den Techniken der dreidimensionalen Gestaltung.Mo
  15:30 – 17:00 Uhr | 8 bis 13 JahreMo 17:00 – 19:00 Uhr | 14 bis 27 Ja
 hre
X-ALT-DESC;FMTTYPE=text/html:
LOCATION:Weinmeisterhaus - Jugendkulturzentrum Mitte, Weinmeisterstr. 15 ,
  10178 Berlin, Tel: 030 270044 971
END:VEVENT
END:VCALENDAR
