BEGIN:VCALENDAR
VERSION:2.0
PRODID:-//TYPO3/NONSGML Calendarize//EN
BEGIN:VEVENT
UID:calendarize-spiele-ausfluege-mit-den-stadtschloss-kids-2-20640728-26
CONTACT:JUP
DTSTAMP:20250918T111502Z
DTSTART:20640728T130000Z
DTEND:20640905T180000Z
SUMMARY:Spiele & Ausflüge mit den Stadtschloss-Kids
DESCRIPTION:Spiele und Ausflüge mit den Stadtschloss-Kids2 Etappen: 28.07
 . bis 08.08. und 25.08. bis 05.09.2025Kostenloses Angebot für Kinder im G
 rundschulalter (+/-)Ohne VoranmeldungMontag\, Mittwoch & 1. Freitag von 13
 :00 - 16:00 Uhr Spiele im SchlosshofDienstag & Donnerstag von 10:00 - 15:0
 0 Uhr Ausflüge in die Umgebung (z.B. Strandbad Plötzensee oder Rehberge)
 . Pünktliches Erscheinen ist Bedingung!Am 2. Freitag der jeweiligen Etapp
 e findet von 15:00 bis 18:00 Uhr ein Abschlussfest mit Präsentationen sta
 tt.Teilnahme an den Ausflügen mit schriftlicher Erlaubnis der ElternMitzu
 bringen:Berlinpass\, Berliner Ferienpass oder EintrittsgeldBVG-Karte oder 
 FahrgeldRucksack für jedes Kind einzeln mit Badekleidung\, Handtuch\, Pic
 knick (nicht nur Süßes) und Trinkflasche
X-ALT-DESC;FMTTYPE=text/html:
LOCATION:Stadtschloss Moabit, Rostocker Str. 32 , 10553 Berlin, Tel: 
END:VEVENT
END:VCALENDAR
