BEGIN:VCALENDAR
VERSION:2.0
PRODID:-//TYPO3/NONSGML Calendarize//EN
BEGIN:VEVENT
UID:calendarize-spieleabend-fuer-erwachsene-20260423
CONTACT:Veranstaltungskalender für Familien in Berlin
DTSTAMP:20250513T055553Z
DTSTART:20260423T170000Z
SUMMARY:Spieleabend für Erwachsene
DESCRIPTION:Nach dem Einzug der digitalen Spiele\, in Form von Nintendo Sw
 itch Spielen und Edurinofiguren\, in die Bibliothekslandschaft von Charlot
 tenburg-Wilmersdorf folgen ab Donnerstag\, 15. Mai 2025 auch die analogen 
 Spiele. Den Anfang macht die Eberhard-Alexander-Burgh-Bibliothek mit einer
  bunten Auswahl an Brett- und Kartenspielen für verschiedene Spieler*inne
 ngrößen und Altersgruppen\, in der auch eines neues Angebot startet:\nSp
 ieleabend für Erwachsene\n\nAb Donnerstag\, 15. Mai 2025 startet in der E
 berhard-Alexander-Burgh-Bibliothek wöchentlich ab 17 Uhr unser Spieleaben
 d für Erwachsene!\n\nVon Familien- bis Kennerspiel oder Euro bis schnelle
 m Kartenspiel. Ob mit oder ohne Begleitung\, einem der ausleihbaren Spiele
  oder mit eigenem Mitgebrachten: Alles kann gespielt werden!\n\nFür den E
 instieg liegt jede Woche ein neues Spiel im Fokus. Welches Spiel das für 
 diese Woche ist\, findet sich im Veranstaltungskalender: https://www.wir-b
 ieten-vielfalt-einen-ort.de/veranstaltungen-2/\n\n \n\nDer Besuch des Spie
 leabends ist kostenfrei und erfordert keine vorherige Anmeldung!
X-ALT-DESC;FMTTYPE=text/html:
LOCATION:Eberhard-Alexander-Burgh-Bibliothek, Rüdesheimer Str. 14 , 14197
  Berlin, Tel: 030 / 9029 17061
END:VEVENT
END:VCALENDAR
