BEGIN:VCALENDAR
VERSION:2.0
PRODID:-//TYPO3/NONSGML Calendarize//EN
BEGIN:VEVENT
UID:calendarize-sprachraum-1-20260428
CONTACT:Veranstaltungskalender für Familien in Berlin
DTSTAMP:20250626T132705Z
DTSTART:20260428T160000Z
DTEND:20260428T180000Z
SUMMARY:SprachRaum
DESCRIPTION:Gemeinsam Deutsch sprechen / Speaking German together:\nIhr mö
 chtet eure Deutschkenntnisse anwenden und üben – und dabei ein paar net
 te Leute treffen? Der SprachRaum ist dann genau was ihr braucht! Keine bes
 onderen Vorkenntnisse oder Sprachniveaus vorausgesetzt.\n\nWould you like 
 to improve and practise your German – and meet some nice people at the s
 ame time? Then the SprachRaum is just what you need! No special previous k
 nowledge or language level required.\n\nJeden Dienstag 16-18 Uhr / every T
 uesday 16-18 h\n- WerkRaum der Bezirkszentralbibliothek Pablo Neruda\n- Ei
 ntritt frei / Admission free\n- ohne Voranmeldung / no registration necess
 ary
X-ALT-DESC;FMTTYPE=text/html:
LOCATION:Bezirkszentralbibliothek Pablo Neruda, Frankfurter Allee 14a , 10
 247 Berlin, Tel: (030) 90298 5750
END:VEVENT
END:VCALENDAR
