BEGIN:VCALENDAR
VERSION:2.0
PRODID:-//TYPO3/NONSGML Calendarize//EN
BEGIN:VEVENT
UID:calendarize-story-scouts-1-20260422
CONTACT:JUP
DTSTAMP:20250626T125301Z
DTSTART:20260422T143000Z
DTEND:20260422T143000Z
SUMMARY:Story Scouts
DESCRIPTION:Du bist mindestens 12 Jahre alt und liebst Bücher? Dann komm 
 zu den Story Scouts! Wir treffen uns jeden vierten Mittwoch im Monat um 14
 :30 Uhr in der Kinder- und Jugendbibliothek.Hier kannst du Bücher lesen\,
  kreativ Empfehlungen für andere Bibliotheksbesucher*innen gestalten und 
 dabei deine Meinung teilen. Alle von dir erstellten Inhalte werden ausgest
 ellt und inspirieren andere zum Lesen! Außerdem kannst du alle Materialie
 n\, wie Flyer und Plakate aktiv mitgestalten. Das Projekt wird von zwei Mi
 tarbeitenden der Stadtbibliothek betreut.📚 Mitmachen ist kostenfrei und
  ohne Anmeldung möglich. Komm vorbei und werde ein Story Scout!Jeden 4. M
 ittwoch des Monats – jeweils 14:30 Uhr- Kinder- und Jugendbibliothek in 
 der 1. Etage (Raum 1.2)- Für Jugendliche ab 12 Jahren
X-ALT-DESC;FMTTYPE=text/html:
LOCATION:Pablo Neruda Bibliothek\, Bezirkszentralbibliothek Friedrichshain
 -Kreuzberg, Frankfurter Allee 14 A , 10247 Berlin, Tel: 
END:VEVENT
END:VCALENDAR
