BEGIN:VCALENDAR
VERSION:2.0
PRODID:-//TYPO3/NONSGML Calendarize//EN
BEGIN:VEVENT
UID:calendarize-textilwerkstatt-20260520
CONTACT:JUP
DTSTAMP:20250626T125301Z
DTSTART:20260520T153000Z
DTEND:20260520T190000Z
SUMMARY:Textilwerkstatt
DESCRIPTION:Ob du Kleidung nähen\, individuelle Accessoires herstellen od
 er einzigartige Heimtextilien gestalten möchtest – bei uns findest du d
 ie ideale Umgebung dafür. Egal\, ob du Anfänger oder bereits erfahren bi
 st\, hier erhältst du die Unterstützung und Inspiration\, die du brauchs
 t\, um deine textilen Fähigkeiten zu erweitern und deine eigenen Meisterw
 erke zu kreieren\n\nMi 15:30 – 17:00 Uhr | 8 – 13 Jahre alt\nMi 17:00 
 – 19:00 Uhr | 14 – 27 Jahre alt\n\n*Die Werkstatt findet an Feiertagen
  und während Schulferien nicht statt
X-ALT-DESC;FMTTYPE=text/html:
LOCATION:Weinmeisterhaus - Jugendkulturzentrum Mitte, Weinmeisterstr. 15 ,
  10178 Berlin, Tel: 030 270044 971
END:VEVENT
END:VCALENDAR
