BEGIN:VCALENDAR
VERSION:2.0
PRODID:-//TYPO3/NONSGML Calendarize//EN
BEGIN:VEVENT
UID:calendarize-theater-20260420
CONTACT:JUP
DTSTAMP:20250513T060730Z
DTSTART:20260420T170000Z
DTEND:20260420T190000Z
SUMMARY:Theater
DESCRIPTION:Egal\, ob du davon träumst\, auf der Bühne zu stehen\, Theat
 erstücke selbst zu erschaffen oder einfach nur deine kreative Seite ausle
 ben möchtest\, bist du hier genau richtig. Durch eine Vielzahl von Übung
 en und Spielen lernst du die Grundlagen des Schauspielens\, Improvisierens
 \, der Charakterentwicklung und Stückentwicklung kennen.Mo von 17:00 – 
 19:00 Uhr | 14 – 27 Jahre altMi von 15:30 – 17:00 Uhr | 8 – 13 Jahre
  alt
X-ALT-DESC;FMTTYPE=text/html:
LOCATION:Weinmeisterhaus - Jugendkulturzentrum Mitte, Weinmeisterstr. 15 ,
  10178 Berlin, Tel: 030 270044 971
END:VEVENT
END:VCALENDAR
