BEGIN:VCALENDAR
VERSION:2.0
PRODID:-//TYPO3/NONSGML Calendarize//EN
BEGIN:VEVENT
UID:calendarize-tiktok-werkstatt-20260602-36
CONTACT:JUP
DTSTAMP:20250918T111502Z
DTSTART:20260602T160000Z
DTEND:20260602T190000Z
SUMMARY:TikTok Werkstatt
DESCRIPTION:Erstelle deinen Social Media Content\, ganz einfach mit deinem
  Smartphone und steigere deine Reichweite. In unserem Workshop lernst du v
 om Profi die Tricks für angesagte Videos und wie du den Algorithmus verst
 ehst. Du gehst mit deinem neuen Video und neuen Skills aus dem Workshop.
X-ALT-DESC;FMTTYPE=text/html:
LOCATION:Weinmeisterhaus - Jugendkulturzentrum Mitte, Weinmeisterstr. 15 ,
  10178 Berlin, Tel: 030 270044 971
END:VEVENT
END:VCALENDAR
