BEGIN:VCALENDAR
VERSION:2.0
PRODID:-//TYPO3/NONSGML Calendarize//EN
BEGIN:VEVENT
UID:calendarize-treffen-des-arbeitskreises-umwelt-und-bildung-aub-20260520
CONTACT:Veranstaltungskalender für Familien in Berlin
DTSTAMP:20250626T132705Z
DTSTART:20260520T150000Z
DTEND:20260520T170000Z
SUMMARY:Treffen des Arbeitskreises Umwelt und Bildung (AUB)
DESCRIPTION:Im AUB treffen sich Interessierte und Vertretende von Schulen\
 , Vereinen und aus der Verwaltung\, um gemeinsam etwas für die Umweltbild
 ung in Lichtenberg zu tun. Neue Mitglieder sind herzlich willkommen!
X-ALT-DESC;FMTTYPE=text/html:
LOCATION:Naturschutzstation Malchow, Dorfstr. 35 , 13051 Berlin, Tel: 
END:VEVENT
END:VCALENDAR
