BEGIN:VCALENDAR
VERSION:2.0
PRODID:-//TYPO3/NONSGML Calendarize//EN
BEGIN:VEVENT
UID:calendarize-trickfilmwerkstatt-1-20260519
CONTACT:JUP
DTSTAMP:20250626T125301Z
DTSTART:20260519T153000Z
DTEND:20260519T170000Z
SUMMARY:Trickfilmwerkstatt
DESCRIPTION:In unserer Trickfilmwerkstatt kannst du die magische Welt des 
 Animationsfilms entdecken und deine eigenen Geschichten zum Leben erwecken
 . Mit professioneller Software und technischen Geräten unterstützen wir 
 dich dabei\, deine Charaktere und Szenen zu animieren. Hier kannst du dein
 er Fantasie freien Lauf lassen und eigene kleine Filmkunstwerke erschaffen
 .Di von 15:30 – 17:00 Uhr | 8 – 13 Jahre alt
X-ALT-DESC;FMTTYPE=text/html:
LOCATION:Weinmeisterhaus - Jugendkulturzentrum Mitte, Weinmeisterstr. 15 ,
  10178 Berlin, Tel: 030 270044 971
END:VEVENT
END:VCALENDAR
