BEGIN:VCALENDAR
VERSION:2.0
PRODID:-//TYPO3/NONSGML Calendarize//EN
BEGIN:VEVENT
UID:calendarize-ukrainische-samstagsschule-1-20260523
CONTACT:JUP
DTSTAMP:20250626T125301Z
DTSTART:20260523T100000Z
DTEND:20260523T133000Z
SUMMARY:Ukrainische Samstagsschule
DESCRIPTION:In unserer ukrainischen Samstagsschule können Kinder die ukra
 inische Sprache und Kultur spielerisch entdecken und besser kennenlernen. 
 Durch eine Kombination aus interaktiven Aufgaben\, Spielen und Lernmateria
 lien werden Kinder motiviert\, ihre Sprachkenntnisse zu entwickeln und zu 
 vertiefen.\n\nJeden Samstag von 10:00 – 13:30 Uhr für Kinder von 5 - 8 
 Jahren\n\nVoranmeldung per Telefon: 0162 – 9657652 (Tina) oder per E-Mai
 l: info@bgff.de\n\nWir freuen uns auf euch.
X-ALT-DESC;FMTTYPE=text/html:
LOCATION:KuBi17 - Kultur und Bildung, Ahlbecker Str. 17 , 10437 Berlin, Te
 l: 0176 – 4737 6278
END:VEVENT
END:VCALENDAR
