BEGIN:VCALENDAR
VERSION:2.0
PRODID:-//TYPO3/NONSGML Calendarize//EN
BEGIN:VEVENT
UID:calendarize-videodreh-und-schnitt-20260507
CONTACT:JUP
DTSTAMP:20250626T125301Z
DTSTART:20260507T170000Z
DTEND:20260507T190000Z
SUMMARY:Videodreh und -schnitt
DESCRIPTION:Hier könnt ihr euch mit der Video-Aufnahme vertraut machen un
 d / oder euer eigenes Video zusammenschneiden. Gerne helfen wir euch auch 
 dabei\, euer persönliches AboutMe\, Showreel oder andere Videos für eure
 n beruflichen Weg zusammenzustellen. Aber auch Videos für euren eigenen G
 ebrauch wie Social Media-Content\, Gaming-Videos\, Best Ofs und vieles meh
 r ist möglich. Probiert dazu gerne unser Equipment aus\, wie unsere 4K-Ka
 meras\, unterschiedliche Schnittsoftware oder unseren Greenscreen.\n\nMi v
 on 17:00 – 19:00 Uhr | 14 bis 27 Jahre
X-ALT-DESC;FMTTYPE=text/html:
LOCATION:Weinmeisterhaus - Jugendkulturzentrum Mitte, Weinmeisterstr. 15 ,
  10178 Berlin, Tel: 030 270044 971
END:VEVENT
END:VCALENDAR
