BEGIN:VCALENDAR
VERSION:2.0
PRODID:-//TYPO3/NONSGML Calendarize//EN
BEGIN:VEVENT
UID:calendarize-workshop-beatbox-20260520-34
CONTACT:JUP
DTSTAMP:20250918T111502Z
DTSTART:20260520T150000Z
DTEND:20260520T170000Z
SUMMARY:Workshop: Beatbox
DESCRIPTION:Lerne im Beatbox Workshop Sounds und Beats mit deinem Mund zu 
 erzeugen. Von Basic Drum-Sounds bis zu fortgeschrittenen Techniken wirst d
 u Schritt für Schritt angeleitet\, um deine eigenen Beatbox Fähigkeiten 
 zu entwickeln und zu verfeinern. Finde Freunde in der Community und tausch
 e dich aus.Dein Dozent ist Kays Elbeyli\, Mitglied von The Razzzones Beatb
 ox Crew und Projektleiter des Berlin BeatLabs.
X-ALT-DESC;FMTTYPE=text/html:
LOCATION:Weinmeisterhaus - Jugendkulturzentrum Mitte, Weinmeisterstr. 15 ,
  10178 Berlin, Tel: 030 270044 971
END:VEVENT
END:VCALENDAR
