BEGIN:VCALENDAR
VERSION:2.0
PRODID:-//TYPO3/NONSGML Calendarize//EN
BEGIN:VEVENT
UID:calendarize-workshop-musikproduktion-20260508-33
CONTACT:JUP
DTSTAMP:20250918T111502Z
DTSTART:20260508T160000Z
DTEND:20260508T190000Z
SUMMARY:Workshop: Musikproduktion
DESCRIPTION:Erlerne alle Grundlagen und Steps der modernen Musikproduktion
 :Production\, Recording\, Mixing und Mastering.Tausche dich mit anderen Kr
 eativen aus und wenn der Vibe stimmt\, könnt ihr Collabs starten.Bringe g
 erne deinen Laptop mit deiner DAW mit.
X-ALT-DESC;FMTTYPE=text/html:
LOCATION:Weinmeisterhaus - Jugendkulturzentrum Mitte, Weinmeisterstr. 15 ,
  10178 Berlin, Tel: 030 270044 971
END:VEVENT
END:VCALENDAR
