BEGIN:VCALENDAR
VERSION:2.0
PRODID:-//TYPO3/NONSGML Calendarize//EN
BEGIN:VEVENT
UID:calendarize-workshop-rap-vocal-recording-20260521-35
CONTACT:JUP
DTSTAMP:20250918T111502Z
DTSTART:20260521T160000Z
DTEND:20260521T190000Z
SUMMARY:Workshop: Rap & Vocal Recording
DESCRIPTION:Bring deinen Beat mit. Lass dich professionell aufnehmen. Geh 
 mit deinem Demo-Track nach Hause.
X-ALT-DESC;FMTTYPE=text/html:
LOCATION:Weinmeisterhaus - Jugendkulturzentrum Mitte, Weinmeisterstr. 15 ,
  10178 Berlin, Tel: 030 270044 971
END:VEVENT
END:VCALENDAR
