BEGIN:VCALENDAR
VERSION:2.0
PRODID:-//TYPO3/NONSGML Calendarize//EN
BEGIN:VEVENT
UID:calendarize-wort-fuer-wort-alle-lesen-mit-20260429
CONTACT:Veranstaltungskalender für Familien in Berlin
DTSTAMP:20250626T132705Z
DTSTART:20260429T160000Z
SUMMARY:Wort für Wort - alle lesen mit!
DESCRIPTION:Auf ins A… wie Abenteuer\, B… wie Buch und C… wie Champi
 ons! Petra und Elmar\, unsere beiden Lesepat*innen\, gehen mit euch und de
 m ABC auf Reisen durch spannende Geschichten für die Vorschule sowie 1. u
 nd 2. Klasse. Jede Woche am Mittwochnachmittag laden sie euch ein\, gemein
 sam reihum eine neue Geschichte zu erlesen. Ist das geschafft\, gibt es zu
 m Ausklang noch ein kurzes Bilderbuchkino zum Entspannen.\nFür Kinder im 
 Erstlesealter zwischen 5-8 Jahren – ob lesebegeisterte Vorschulkinder\, 
 Schulanfänger*innen oder Kinder\, die noch etwas Übung im flüssigen Les
 en brauchen: Alle sind willkommen!\nDie Veranstaltungsreihe möchte die Lu
 st am Lesen wecken und bestärken. Eine darüberhinausgehende (sprach-)pä
 dagogische Begleitung ist durch die beiden ehrenamtlich tätigen Lesepat*i
 nnen nicht möglich.\n\n4. Juni 2025: \nDer kleine Biber buchstabiert: Wir
  sind alle talenTiert!\n11. Juni 2025: \nSprachspiele\n18. Juni 2025: \nDa
 s kleine WIR in der 1. Klasse\n25. Juni 2025: \nLesen mit Apps!\n\n- Kinde
 rbibliothek im 1. OG der Bezirkszentralbibliothek Pablo Neruda\n- Ohne Vor
 anmeldung\n- Eintritt frei\n\nEine Kooperation mit der Bürgerstiftung Ber
 lin
X-ALT-DESC;FMTTYPE=text/html:
LOCATION:Pablo-Neruda-Bibliothek, Frankfurter Allee 14 A , 10247 Berlin, T
 el: 
END:VEVENT
END:VCALENDAR
