BEGIN:VCALENDAR
VERSION:2.0
PRODID:-//TYPO3/NONSGML Calendarize//EN
BEGIN:VEVENT
UID:calendarize-zeichencafe-20260528
CONTACT:JUP
DTSTAMP:20250626T125301Z
DTSTART:20260528T170000Z
DTEND:20260528T190000Z
SUMMARY:Zeichencafé
DESCRIPTION:Ob du am Anfang deiner künstlerischen Reise stehst oder berei
 ts Erfahrung hast\, bei uns bist du genau richtig! Vom gegenseitigen Zeich
 nen von Porträts bis zum Urban-Sketching unter freiem Himmel bietet das Z
 eichencafé vielfältige Möglichkeiten. Wir stellen Materialien und Räum
 lichkeiten zur Verfügung\, damit ihr euch unabhängig treffen könnt\, um
  eure künstlerischen Fähigkeiten zu teilen.\n\nDo 17:00 – 19:00 Uhr | 
 13 – 27 Jahre alt
X-ALT-DESC;FMTTYPE=text/html:
LOCATION:Weinmeisterhaus - Jugendkulturzentrum Mitte, Weinmeisterstr. 15 ,
  10178 Berlin, Tel: 030 270044 971
END:VEVENT
END:VCALENDAR
