BEGIN:VCALENDAR
VERSION:2.0
PRODID:-//TYPO3/NONSGML Calendarize//EN
BEGIN:VEVENT
UID:calendarize-zirkus-20260616
CONTACT:JUP
DTSTAMP:20250918T111502Z
DTSTART:20260616T153000Z
DTEND:20260616T170000Z
SUMMARY:Zirkus
DESCRIPTION:Entdecke eine Welt voller Spaß und Bewegung! Bei uns lernst d
 u verschiedene Zirkusdisziplinen kennen\, schärfst deine körperliche Ges
 chicklichkeit und kannst kreative Zirkusnummern und Choreografien entwicke
 ln.\n\nDi von 15:30 – 17:00 Uhr | 8 – 13 Jahre alt
X-ALT-DESC;FMTTYPE=text/html:
LOCATION:Weinmeisterhaus - Jugendkulturzentrum Mitte, Weinmeisterstr. 15 ,
  10178 Berlin, Tel: 030 270044 971
END:VEVENT
END:VCALENDAR
